BEGIN:VCALENDAR
VERSION:2.0
PRODID:-//ChamberMaster//Event Calendar 2.0//EN
METHOD:PUBLISH
X-PUBLISHED-TTL:P3D
REFRESH-INTERVAL:P3D
CALSCALE:GREGORIAN
BEGIN:VEVENT
DTSTART:20061101T060000Z
DTEND:20070401T050000Z
X-MICROSOFT-CDO-ALLDAYEVENT:FALSE
SUMMARY:2007 Travel Show Brochure Distribution
DESCRIPTION:
X-ALT-DESC;FMTTYPE=text/html:
LOCATION:
UID:e.2192.28
SEQUENCE:3
DTSTAMP:20260423T090012Z
URL:https://business.visittablerocklake.com/events/details/2007-travel-show-brochure-distribution-11-01-2006-28
END:VEVENT

END:VCALENDAR
