BEGIN:VCALENDAR
VERSION:2.0
PRODID:-//ChamberMaster//Event Calendar 2.0//EN
METHOD:PUBLISH
X-PUBLISHED-TTL:P3D
REFRESH-INTERVAL:P3D
CALSCALE:GREGORIAN
BEGIN:VEVENT
DTSTART:20160322T230000Z
DTEND:20160323T010000Z
X-MICROSOFT-CDO-ALLDAYEVENT:FALSE
SUMMARY:2016 Candidate Forum
DESCRIPTION:There will be a candidate forum for candidates up for municipal elections in Stone County at 6 p.m. March 22 at the Reeds Spring Middle School Auditorium. Candidates for seats in all cities and villages in Stone County have been invited.  \n\n\n\nThe Legislative Committee of the Table Rock Lake Chamber of Commerce will prepare 2 questions to be asked of each candidate\, and each candidate will have 2 minutes to answer. Prior to the start of the questions\, each candidate will be allowed time for a short introduction.
X-ALT-DESC;FMTTYPE=text/html:<span style="font-size:14px\;"><span style="font-family:arial\;">There will be a candidate forum for candidates up for&nbsp\;municipal elections in Stone County at 6 p.m. March 22 at the Reeds Spring Middle School Auditorium. Candidates for seats in all cities and villages in Stone County have been invited. &nbsp\;<br />\n<br />\nThe Legislative Committee of the Table Rock Lake Chamber of Commerce will prepare 2 questions to be asked of each candidate\, and each candidate will have 2 minutes to answer. Prior to the start of the questions\, each candidate will be allowed time for a short introduction.</span></span><br />\n&nbsp\;
LOCATION:Reeds Spring Middle School Auditorium
UID:e.2192.1110
SEQUENCE:3
DTSTAMP:20260420T043439Z
URL:https://business.visittablerocklake.com/events/details/2016-candidate-forum-1110
END:VEVENT

END:VCALENDAR
