BEGIN:VCALENDAR
VERSION:2.0
PRODID:-//ChamberMaster//Event Calendar 2.0//EN
METHOD:PUBLISH
X-PUBLISHED-TTL:P3D
REFRESH-INTERVAL:P3D
CALSCALE:GREGORIAN
BEGIN:VEVENT
DTSTART:20260703T020000Z
DTEND:20260703T023000Z
X-MICROSOFT-CDO-ALLDAYEVENT:FALSE
SUMMARY:2026 Fireburst Fireworks over Table Rock Lake
DESCRIPTION:Table Rock Lake area residents and visitors have enjoyed Fireburst at Kimberling City since 1984.  Over forty years later\, Fireburst\, presented by Table Rock Lake Chamber of Commerce\, is still one of the most spectacular fireworks shows in the region. Scheduled for Thursday\, July 2\, 2026\, near the Kimberling City bridge\, this fireworks show is solely sponsored by community and business donations. The show can be viewed by land or by boat and is one of the area's most popular events.
X-ALT-DESC;FMTTYPE=text/html:<div><span style="font-family: arial\; font-size: 18px\;">Table Rock Lake area residents and visitors have enjoyed Fireburst at Kimberling City since 1984.&nbsp\; Over forty years later\, Fireburst\, presented by Table Rock Lake Chamber of Commerce\,&nbsp\;is still one of the most spectacular fireworks shows in the region. Scheduled for Thursday\, July 2\, 2026\, near the Kimberling City bridge\, this fireworks show is solely sponsored by community and business donations. The show can be viewed by land or by boat and is one of the area&#39\;s most popular events.&nbsp\;</span></div>\n&nbsp\;\n\n<div class="x_elementToProof" data-olk-copy-source="MessageBody" style="border: 0px\; font-style: inherit\; font-variant: inherit\; font-weight: inherit\; font-stretch: inherit\; font-size: 11pt\; line-height: inherit\; font-family: Aptos\, Aptos_EmbeddedFont\, Aptos_MSFontService\, Calibri\, Helvetica\, sans-serif\; font-optical-sizing: inherit\; font-size-adjust: inherit\; font-kerning: inherit\; font-feature-settings: inherit\; font-variation-settings: inherit\; margin: 0in 0in 0in 0.375in\; padding: 0px\; vertical-align: baseline\;">&nbsp\;</div>\n
LOCATION:In the area of the Kimberling City Bridge Fireburst Traffic Plan will be available soon.
UID:e.2192.14331
SEQUENCE:3
DTSTAMP:20260425T130503Z
URL:https://business.visittablerocklake.com/events/details/2026-fireburst-fireworks-over-table-rock-lake-14331
END:VEVENT

END:VCALENDAR
