BEGIN:VCALENDAR
VERSION:2.0
PRODID:-//ChamberMaster//Event Calendar 2.0//EN
METHOD:PUBLISH
X-PUBLISHED-TTL:P3D
REFRESH-INTERVAL:P3D
CALSCALE:GREGORIAN
BEGIN:VEVENT
DTSTART:20251205T150000Z
DTEND:20251206T220000Z
X-MICROSOFT-CDO-ALLDAYEVENT:FALSE
SUMMARY:24th Annual Christmas Tour of Home and Holiday Boutique
DESCRIPTION:The 24th Annual Christmas Tour of Homes and Holiday Boutique on December 5-6\, 2025 promises to be a grand showcase of four holiday decorated homes in the Table Rock Lake area. The Kimberling Area Library\, 45 Kimberling Blvd\, will host an array of Christmas items in a Boutique of local vendors\, basket raffles\, selected crafts\, and baked good from Neighbors and Friends' members. Homes will be open 10 am to 4 pm\, and Boutique hours will be 9 am to 4 pm. Advance tickets ($20.00) will be available from October 14 to December 4\, 2025 at the Library and Harter House (Kimberling City)\, Neighbors and Friends' members\, or at www.nftrl.org. Day of event tickets ($25.00) will be sold at the Library and tour homes. All raised monies support charities in Stone and Taney counties as part of historical fundraising of Neighbors and Friends.
X-ALT-DESC;FMTTYPE=text/html:The 24th Annual Christmas Tour of Homes and Holiday Boutique on December 5-6\, 2025 promises to be a grand showcase of four holiday decorated homes in the Table Rock Lake area. The Kimberling Area Library\, 45 Kimberling Blvd\, will host an array of Christmas items in a Boutique of local vendors\, basket raffles\, selected crafts\, and baked good from Neighbors and Friends&rsquo\; members. Homes will be open 10 am to 4 pm\, and Boutique hours will be 9 am to 4 pm. Advance tickets ($20.00) will be available from October 14 to December 4\, 2025 at the Library and Harter House (Kimberling City)\, Neighbors and Friends&rsquo\; members\, or at www.nftrl.org. Day of event tickets ($25.00) will be sold at the Library and tour homes. All raised monies support charities in Stone and Taney counties as part of historical fundraising of Neighbors and Friends.
LOCATION:Kimberling Area Library 45 Kimberling Avenue Kimberling City\, MO
UID:e.2192.14246
SEQUENCE:3
DTSTAMP:20260425T031053Z
URL:https://business.visittablerocklake.com/events/details/24th-annual-christmas-tour-of-home-and-holiday-boutique-14246
END:VEVENT

END:VCALENDAR
