BEGIN:VCALENDAR
VERSION:2.0
PRODID:-//ChamberMaster//Event Calendar 2.0//EN
METHOD:PUBLISH
X-PUBLISHED-TTL:P3D
REFRESH-INTERVAL:P3D
CALSCALE:GREGORIAN
BEGIN:VEVENT
DTSTART:20211110T160000Z
DTEND:20211110T173000Z
X-MICROSOFT-CDO-ALLDAYEVENT:FALSE
SUMMARY:After the Frost: Preparing the Spring Garden
DESCRIPTION:Join one of our local MO Master Gardeners and resident expert\, Kathryn Kufuhl\, in an informative discussion to identify ways to succeed in your spring garden planting by careful fall garden planning.
X-ALT-DESC;FMTTYPE=text/html:Join one of our local MO Master Gardeners and resident expert\, Kathryn Kufuhl\, in an informative discussion to identify ways to succeed in your spring garden planting by careful fall garden planning.
LOCATION:Kimberling Area Library community room\, 45 Kimberling Blvd.\, Kimberling City
UID:e.2192.9114
SEQUENCE:3
DTSTAMP:20260426T003533Z
URL:https://business.visittablerocklake.com/events/details/after-the-frost-preparing-the-spring-garden-9114
END:VEVENT

END:VCALENDAR
