BEGIN:VCALENDAR
VERSION:2.0
PRODID:-//ChamberMaster//Event Calendar 2.0//EN
METHOD:PUBLISH
X-PUBLISHED-TTL:P3D
REFRESH-INTERVAL:P3D
CALSCALE:GREGORIAN
BEGIN:VEVENT
DTSTART:20220529T000000Z
DTEND:20220529T043000Z
X-MICROSOFT-CDO-ALLDAYEVENT:FALSE
SUMMARY:Black Oak Amp Hosts Casey Donahew and Josh Abbott Band in Concert!
DESCRIPTION:Texas music sensation Casey Donahew has risen from being a favorite on the local music scene\, racking up 21 #1 singles\, to a national music sensation\, selling out venues across the country. Casey Donahew brings his own sizzling brand of country\, from Red Dirt anthems to beautiful ballads and everything in between. A staple in the Texas music scene since forming in 2006 at Lubbock's Texas Tech University\, Josh Abbott Band have weathered many storms together. In addition to the heartfelt ballads of love\, Josh Abbott Band's energetic live show is highlighted throughout their newest album\, The Highway Kind. Courtyard Opens at 4 p.m. Doors Open at 5:30 p.m. Show Begins at 7 p.m.
X-ALT-DESC;FMTTYPE=text/html:Texas music sensation Casey Donahew has risen from being a favorite on the local music scene\, racking up 21 #1 singles\, to a national music sensation\, selling out venues across the country. Casey Donahew brings his own sizzling brand of country\, from Red Dirt anthems to beautiful ballads and everything in between. A staple in the Texas music scene since forming in 2006 at Lubbock&rsquo\;s Texas Tech University\, Josh Abbott Band have weathered many storms together. In addition to the heartfelt ballads of love\, Josh Abbott Band&rsquo\;s energetic live show is highlighted throughout their newest album\, The Highway Kind. Courtyard Opens at 4 p.m. Doors Open at 5:30 p.m. Show Begins at 7 p.m.
LOCATION:Black Oak Amphitheater 1728 State Hwy H Lampe\, MO 65681
UID:e.2192.9672
SEQUENCE:3
DTSTAMP:20260425T190131Z
URL:https://business.visittablerocklake.com/events/details/black-oak-amp-hosts-casey-donahew-and-josh-abbott-band-in-concert-9672
END:VEVENT

END:VCALENDAR
