BEGIN:VCALENDAR
VERSION:2.0
PRODID:-//ChamberMaster//Event Calendar 2.0//EN
METHOD:PUBLISH
X-PUBLISHED-TTL:P3D
REFRESH-INTERVAL:P3D
CALSCALE:GREGORIAN
BEGIN:VEVENT
DTSTART;VALUE=DATE:20240901
DTEND;VALUE=DATE:20240902
TRANSP:TRANSPARENT
X-MICROSOFT-CDO-ALLDAYEVENT:TRUE
SUMMARY:Chateau on the Lake Labor Day Fireworks Celebration
DESCRIPTION:The best way to end the summer season is at the Chateau on the Lake\, with a spectacular fireworks display. \n\nMake your room reservations early and enjoy a weekend full of activities. Contact the reservations team for more details at chateauonthelake.com.\n\n \n\n \nhttp://www.chateauonthelake.com
X-ALT-DESC;FMTTYPE=text/html:<p style="line-height: 1.8em\; font-size: 1em\; margin: 8px 0em 1.2em\;"><span style="font-size:20px\;"><span style="color:#B22222\;"><strong>The best way to end the summer season is at the Chateau on the Lake\, with a spectacular fireworks display.&nbsp\;</strong></span></span></p>\n\n<p style="line-height: 1.8em\; font-size: 1em\; margin: 8px 0em 1.2em\;"><strong>Make your room reservations early and enjoy a weekend full of activities. Contact the reservations team for more details at <a href="http://chateauonthelake.com">chateauonthelake.com</a>.</strong></p>\n\n<h4 style="margin: 1.2em 0em 0em\; font-family: Raleway\, sans-serif\; font-size: 16px\; line-height: 1.2\;">&nbsp\;</h4>\n\n<p style="line-height: 1.8em\; font-size: 1em\; margin: 8px 0em 1.2em\;">&nbsp\;</p>\n<a href="http://www.chateauonthelake.com">http://www.chateauonthelake.com</a>
LOCATION:Chateau on the Lake Resort\, Spa & Conference Center 415 N. State Highway 265 Branson\, MO 65616
UID:e.2192.8670
SEQUENCE:3
DTSTAMP:20260424T075801Z
URL:https://business.visittablerocklake.com/events/details/chateau-on-the-lake-labor-day-fireworks-celebration-8670
END:VEVENT

END:VCALENDAR
