BEGIN:VCALENDAR
VERSION:2.0
PRODID:-//ChamberMaster//Event Calendar 2.0//EN
METHOD:PUBLISH
X-PUBLISHED-TTL:P3D
REFRESH-INTERVAL:P3D
CALSCALE:GREGORIAN
BEGIN:VEVENT
DTSTART:20251206T230000Z
DTEND:20251207T010000Z
X-MICROSOFT-CDO-ALLDAYEVENT:FALSE
SUMMARY:City of Crane Christmas Parade
DESCRIPTION:The Crane Christmas parade is a wonderful small town tradition.  Floats\, marching bands from the local high school\, families\, fun\, hot cocoa and photos with Santa.  Bring a chair if you need one\, mittens\, a hat and a warm coat.  If you have a bag for your candy.  Line up starts at 5pm at the City Park. The parade starts at 6pm.
X-ALT-DESC;FMTTYPE=text/html:The Crane Christmas parade is a wonderful small town tradition.&nbsp\; Floats\, marching bands from the local high school\, families\, fun\, hot cocoa and photos with Santa.&nbsp\; Bring a chair if you need one\, mittens\, a hat and a warm coat.&nbsp\; If you have a bag for your candy.&nbsp\; Line up starts at 5pm at the City Park. The parade starts at 6pm.&nbsp\;&nbsp\;
LOCATION:Main Street - Crane Missouri
UID:e.2192.14277
SEQUENCE:3
DTSTAMP:20260425T030808Z
URL:https://business.visittablerocklake.com/events/details/city-of-crane-christmas-parade-14277
END:VEVENT

END:VCALENDAR
