BEGIN:VCALENDAR
VERSION:2.0
PRODID:-//ChamberMaster//Event Calendar 2.0//EN
METHOD:PUBLISH
X-PUBLISHED-TTL:P3D
REFRESH-INTERVAL:P3D
CALSCALE:GREGORIAN
BEGIN:VEVENT
DTSTART:20260413T233000Z
DTEND:20260414T013000Z
X-MICROSOFT-CDO-ALLDAYEVENT:FALSE
SUMMARY:Crane Community Meeting
DESCRIPTION:Community Meeting of the year at the Crane Christian Church Community Building.\n\nThis year meetings will be held quarterly. Part of our new plan for 2026 will include guest speakers beginning at our Second quarter session.\n\nPlease plan to attend and join in on the planning for 2026.
X-ALT-DESC;FMTTYPE=text/html:<p style="box-sizing: border-box\; overflow-wrap: break-word\; margin-block-end: 0px\; margin: 0px\; font-family: Lato\; font-size: 17px\; line-height: 30px\; letter-spacing: 0.34px\; color: rgb(5\, 40\, 18)\; background-color: rgb(255\, 250\, 241)\;">Community Meeting of the year at the Crane Christian Church Community Building.</p>\n\n<p style="box-sizing: border-box\; overflow-wrap: break-word\; margin-block-end: 0px\; margin: 0px\; font-family: Lato\; font-size: 17px\; line-height: 30px\; letter-spacing: 0.34px\; color: rgb(5\, 40\, 18)\; background-color: rgb(255\, 250\, 241)\;">This year meetings will be held quarterly. Part of our new plan for 2026 will include guest speakers beginning at our Second quarter session.</p>\n\n<p style="box-sizing: border-box\; overflow-wrap: break-word\; margin-block-end: 0px\; margin: 0px\; font-family: Lato\; font-size: 17px\; line-height: 30px\; letter-spacing: 0.34px\; color: rgb(5\, 40\, 18)\; background-color: rgb(255\, 250\, 241)\;">Please plan to attend and join in on the planning for 2026.</p>\n
LOCATION:101 E Edgewood Ave Crane\, MO 65633
UID:e.2192.14358
SEQUENCE:3
DTSTAMP:20260419T151437Z
URL:https://business.visittablerocklake.com/events/details/crane-community-meeting-14358
END:VEVENT

END:VCALENDAR
