BEGIN:VCALENDAR
VERSION:2.0
PRODID:-//ChamberMaster//Event Calendar 2.0//EN
METHOD:PUBLISH
X-PUBLISHED-TTL:P3D
REFRESH-INTERVAL:P3D
CALSCALE:GREGORIAN
BEGIN:VEVENT
DTSTART;VALUE=DATE:20260702
DTEND;VALUE=DATE:20260731
TRANSP:TRANSPARENT
X-MICROSOFT-CDO-ALLDAYEVENT:TRUE
SUMMARY:"I Pledge" Program at The Nettie Marie College Creamery at The Keeter Center
DESCRIPTION:This program invites children ages 12 and under to recite the Pledge of allegiance from memory in exchange for a complimentary scoop of homemade ice cream from the College Creamery\, celebrating patriotism and helping young guests learn and honor a foundational civic tradition.
X-ALT-DESC;FMTTYPE=text/html:<span style="color:rgb(33\, 37\, 41)\; font-family:inter\,arial\,sans-serif\; font-size:16px">This program invites children ages 12 and under to recite the Pledge of allegiance from memory in exchange for a complimentary scoop of homemade ice cream from the College Creamery\, celebrating patriotism and helping young guests learn and honor a foundational civic tradition.</span>
LOCATION:
UID:e.2192.14375
SEQUENCE:3
DTSTAMP:20260425T153851Z
URL:https://business.visittablerocklake.com/events/details/i-pledge-program-at-the-nettie-marie-college-creamery-at-the-keeter-center-14375
END:VEVENT

END:VCALENDAR
