BEGIN:VCALENDAR
VERSION:2.0
PRODID:-//ChamberMaster//Event Calendar 2.0//EN
METHOD:PUBLISH
X-PUBLISHED-TTL:P3D
REFRESH-INTERVAL:P3D
CALSCALE:GREGORIAN
BEGIN:VEVENT
DTSTART:20220511T151500Z
DTEND:20220511T170000Z
X-MICROSOFT-CDO-ALLDAYEVENT:FALSE
SUMMARY:Kimberling Area Library Presents: Benefits of Physical Therapy for a Healthier You
DESCRIPTION:Are you curious about the role of physical therapists that work with your doctor to improve your quality of life? Join Lindsey Hejlek\, owner of Southwest Rehabilitation\, for an informative session on physical therapy interventions to restore your function\, improve your mobility\, and relieve pain "to move on with your life."
X-ALT-DESC;FMTTYPE=text/html:Are you curious about the role of physical therapists that work with your doctor to improve your quality of life? Join Lindsey Hejlek\, owner of Southwest Rehabilitation\, for an informative session on physical therapy interventions to restore your function\, improve your mobility\, and relieve pain &quot\;to move on with your life.&quot\;
LOCATION:Kimberling Area Library\, community room
UID:e.2192.9708
SEQUENCE:3
DTSTAMP:20260425T190256Z
URL:https://business.visittablerocklake.com/events/details/kimberling-area-library-presents-benefits-of-physical-therapy-for-a-healthier-you-9708
END:VEVENT

END:VCALENDAR
