BEGIN:VCALENDAR
VERSION:2.0
PRODID:-//ChamberMaster//Event Calendar 2.0//EN
METHOD:PUBLISH
X-PUBLISHED-TTL:P3D
REFRESH-INTERVAL:P3D
CALSCALE:GREGORIAN
BEGIN:VEVENT
DTSTART:20220608T151500Z
DTEND:20220608T170000Z
X-MICROSOFT-CDO-ALLDAYEVENT:FALSE
SUMMARY:Kimberling Area Library Presents Keep Your Keys: Safe Driving in Your Older Years
DESCRIPTION:Join Amber Allen\, University of MO Extension\, for an informative program on ways to stay medically and physically able to drive during your older years. Amber will discuss timelines for deciding when and how to prepare for driving during retirement and share tools and resources to help keep you safe on the road.
X-ALT-DESC;FMTTYPE=text/html:Join Amber Allen\, University of MO Extension\, for an informative program on ways to stay medically and physically able to drive during your older years. Amber will discuss timelines for deciding when and how to prepare for driving during retirement and share tools and resources to help keep you safe on the road.
LOCATION:Kimberling Area Library community room
UID:e.2192.9746
SEQUENCE:3
DTSTAMP:20260425T204722Z
URL:https://business.visittablerocklake.com/events/details/kimberling-area-library-presents-keep-your-keys-safe-driving-in-your-older-years-9746
END:VEVENT

END:VCALENDAR
