BEGIN:VCALENDAR
VERSION:2.0
PRODID:-//ChamberMaster//Event Calendar 2.0//EN
METHOD:PUBLISH
X-PUBLISHED-TTL:P3D
REFRESH-INTERVAL:P3D
CALSCALE:GREGORIAN
BEGIN:VEVENT
DTSTART:20251206T160000Z
DTEND:20251206T180000Z
X-MICROSOFT-CDO-ALLDAYEVENT:FALSE
SUMMARY:Kimberling City Christmas Parade 2025
DESCRIPTION:Get in the holiday spirit with the Kimberling City Christmas Parade on Saturday\, December 6\, at 10 a.m..  Register your group or organization for the parade contest\, have your picture taken with Santa\, enjoy hot cocoa and cookies\, and join us for a Pearl Harbor Day Remembrance Ceremony at noon.\n\n\n\nPlease consider sharing your generosity this holiday season by bringing a donation to support the Stone County Christmas Assistance Program Christmas Toy Drive. A collection table will be set up at the end of the parade.
X-ALT-DESC;FMTTYPE=text/html:<br />\n<br />\nGet in the holiday spirit with the <span style="color:#008000\;">Kimberling City Christmas Parade</span> on <span style="color:#FF0000\;">Saturday\, December 6\, at 10 a.m..&nbsp\;</span>&nbsp\;Register your group or organization for the parade contest\, have your picture taken with Santa\, enjoy hot cocoa and cookies\, and join us for a Pearl Harbor Day Remembrance Ceremony at noon.<br />\n<br />\n<span style="color:#FF0000\;"><span style="background:white\;"><span style="font-family:arial\,sans-serif\;">Please consider sharing your generosity this holiday season by bringing a donation to support the Stone County Christmas Assistance Program Christmas Toy Drive. A collection table will be set up at the end of the parade.</span></span></span><br />\n&nbsp\;
LOCATION:Visit the Kimberling City website for more information.
UID:e.2192.14147
SEQUENCE:3
DTSTAMP:20260425T030741Z
URL:https://business.visittablerocklake.com/events/details/kimberling-city-christmas-parade-2025-14147
END:VEVENT

END:VCALENDAR
