BEGIN:VCALENDAR
VERSION:2.0
PRODID:-//ChamberMaster//Event Calendar 2.0//EN
METHOD:PUBLISH
X-PUBLISHED-TTL:P3D
REFRESH-INTERVAL:P3D
CALSCALE:GREGORIAN
BEGIN:VEVENT
DTSTART:20250703T023000Z
DTEND:20250703T030000Z
X-MICROSOFT-CDO-ALLDAYEVENT:FALSE
SUMMARY:Lakeside Resort Fireworks Show
DESCRIPTION:Immediately following the Table Rock Lake Chamber of Commerce Fireburst fireworks show\, Lakeside Resort\, located across the lake and to the south of Port of Kimberling\, will have their 19th annual fireworks show.
X-ALT-DESC;FMTTYPE=text/html:<span style="background:white\;"><span style="color:#555555\;"><span style="font-family:montserrat\;"><span style="font-size:12.5pt\;">Immediately following the Table Rock Lake Chamber of Commerce Fireburst fireworks show\, Lakeside Resort\, located across the lake and to the south of Port of Kimberling\, will have their 19th annual fireworks show.&nbsp\;&nbsp\;</span></span></span></span>
LOCATION:
UID:e.2192.14104
SEQUENCE:3
DTSTAMP:20260424T211457Z
URL:https://business.visittablerocklake.com/events/details/lakeside-resort-fireworks-show-14104
END:VEVENT

END:VCALENDAR
