BEGIN:VCALENDAR
VERSION:2.0
PRODID:-//ChamberMaster//Event Calendar 2.0//EN
METHOD:PUBLISH
X-PUBLISHED-TTL:P3D
REFRESH-INTERVAL:P3D
CALSCALE:GREGORIAN
BEGIN:VEVENT
DTSTART:20250212T161500Z
DTEND:20250212T180000Z
X-MICROSOFT-CDO-ALLDAYEVENT:FALSE
SUMMARY:Learning on Wednesday: Pioneer Baby Boomers Move to America's First Suburbs
DESCRIPTION:Join our speaker\, Karole Friemann\, who will speak about her experience of growing up in America's first suburbs in Long Island\, NY\, Karole's book\, available at KAL and Amazon\, offers insight into her journey and nostalgia at that time for many of us.
X-ALT-DESC;FMTTYPE=text/html:Join our speaker\, Karole Friemann\, who will speak about her experience of growing up in America&#39\;s first suburbs in Long Island\, NY\, Karole&#39\;s book\, available at KAL and Amazon\, offers insight into her journey and nostalgia at that time for many of us.
LOCATION:Kimberling Area Library 45 Kimberling Blvd. Kimberling City\, MO
UID:e.2192.13534
SEQUENCE:3
DTSTAMP:20260422T043333Z
URL:https://business.visittablerocklake.com/events/details/learning-on-wednesday-pioneer-baby-boomers-move-to-america-s-first-suburbs-13534
END:VEVENT

END:VCALENDAR
