BEGIN:VCALENDAR
VERSION:2.0
PRODID:-//ChamberMaster//Event Calendar 2.0//EN
METHOD:PUBLISH
X-PUBLISHED-TTL:P3D
REFRESH-INTERVAL:P3D
CALSCALE:GREGORIAN
BEGIN:VEVENT
DTSTART:20250426T150000Z
DTEND:20250426T230000Z
X-MICROSOFT-CDO-ALLDAYEVENT:FALSE
SUMMARY:Meet Me on Main
DESCRIPTION:Meet Me on Main is a small town shop hop across Crane to highlight and promote small\, local\, rural makers and vendors.  Main Street will be blocked off for vendor booths.  Local stores and restaurants will also be open. This event is put on by and is a fundraiser for the Crane High School Future Business Leaders of America.  Check out their Facebook page for details on the vendors they have lined up.
X-ALT-DESC;FMTTYPE=text/html:Meet Me on Main is a small town shop hop across Crane to highlight and promote small\, local\, rural makers and vendors.&nbsp\; Main Street will be blocked off for vendor booths.&nbsp\; Local stores and restaurants will also be open. This event is put on by and is a fundraiser for the Crane High School Future Business Leaders of America.&nbsp\; Check out their Facebook page for details on the vendors they have lined up.
LOCATION:Main Street in Crane\, Missouri. Free parking along Meadow Avenue\, Lockhart Avenue and the railroad tracks by the Crane City Park.
UID:e.2192.13573
SEQUENCE:3
DTSTAMP:20260424T225934Z
URL:https://business.visittablerocklake.com/events/details/meet-me-on-main-04-26-2025-13573
END:VEVENT

END:VCALENDAR
