BEGIN:VCALENDAR
VERSION:2.0
PRODID:-//ChamberMaster//Event Calendar 2.0//EN
METHOD:PUBLISH
X-PUBLISHED-TTL:P3D
REFRESH-INTERVAL:P3D
CALSCALE:GREGORIAN
BEGIN:VEVENT
DTSTART:20250621T150000Z
DTEND:20250621T230000Z
X-MICROSOFT-CDO-ALLDAYEVENT:FALSE
SUMMARY:Melton Auction & Realty-Edith Mills Trust-REAL ESTATE-AUTO-TRAILER-TOOLS-GUNS-ANTIQUES-FURNITURE-MISC
DESCRIPTION:REAL ESTATE-AUTO-TRAILER-TOOLS-GUNS-ANTIQUES-FURNITURE-MISC\n\nAUCTION\n\nSATURDAY JUNE 21\, 2025 10:00 AM\n\nLOCATED: 1635 HIGHWAY 215 BRIGHTON\, MO: FROM NORTH OF SPRINGFIELD\, MO. ON HWY 13 GO APPROX 15 MILES\, TURN RIGHT (EAST) GO   MILE TO AUCTION ON LEFT\, OR 8 MILES SOUTH OF BOLIVAR ON HWY 13 TO HWY 215 THEN EAST ON HWY 215 TO AUCTION. CONCESSIONS & RESTROOM AVAILABLE\n\nFOR PICTURES SEE WEBSITE OR AUCTION ZIP.COM\n\nTO PREVIEW CALL 417-830-0153\n\nBANK LETTER OF CREDIT ADDRESSED TO MELTON AUCTION & REALTY REQUIRED FOR PURCHASE OVER $5000\n\nTERMS: 10% DOWN DAY OF AUCTION\, BALANCE @ CLOSING WITHIN 30 DAYS OR BEFORE\n\nOPEN HOUSE SUNDAY JUNE 8TH 1-3 PM\n\nGUNS WILL SELL @ 10:00\n\nNO GUNS ON PREMISES UNTIL SALE DATE\n\nREAL ESTATE SELLS @ 11:00\n\nREAL ESTATE\n\n2005\, 3 BEDROOM 2 BATH HOME APPROX 1722 SQ FT HOME W/DETACHED 20'X24' GARAGE\, 12'X10' PORTABLE STORAGE BUILDING\, LARGE FRONT PORCH TO WATCH THE SUNRISE OR BEAUTIFUL SUNSETS\, OPEN KITCHEN/DINING ROOM WITH LOTS OF CABINETS\, PANTRY\, DISHWASHER\, SLIDE IN RANGE\, TILE FLOORING\, UTILITY ROOM WITH CABINET & COUNTER FOR FOLDING CLOTHES\, LIVING W/VAULTED CEILING. THIS IS A VERY NICE HOME WITH VINYL SIDING\, METAL ROOF\, SPRINKLER SYSTEM FOR WATERING FLOWERS\, WATER SOFTENER\, WELL & SEPTIC ALL SITTING ON APPROX 2.46 ACRES. THIS IS A VERY WELL MAINTAINED HOME READY TO MOVE INTO.\n\nAUTO-TRAILER-MOWER-TOOLS\n\n1993 TOYOTA CAMRY LE STATION WAGON\, 214\,700 MILES* 2019 UTILITY TRAILER WITH FOLD DOWN RAMPS* HUSTLER RAPTOR 52" ZERO TURN MOWER\, KOHLER 24 HP* YARD MACHINE 3.5 HP SNOW BLOWER* TORO 21" SELF PROPELLED PUSH MOWER 6.5 HP* MANTIS TILLER* STIHL BG 56C BLOWER* WHEEL BARROW* 25 GAL ELECTRIC SPRAYER* MCGRAW 8 GAL 110 VOLT AIR COMPRESSOR* 28' ALUM EST LADDER* LONG HANDLE TOOLS* 2 TON CHERRY PICKER* 2 VEHICLE DOLLY'S* CRAFTSMAN 9 GAL SHOP VAC* DIETZ LANTERN* PLASTIC SHELVING*\n\nGUNS-GUN SAFE\n\n1. WINCHESTER MOD 1894\, 38-55 CAL\, HEX BARREL SER# 272549\n\n2. REMINGTON MOD 700 LH\, 270 WIN CAL W/4X REDFIELD SCOPE SER# A6888471\n\n3. US MOD 1873 TRAP DOOR 45-70 CAL SER# 60308\n\n4. US HARPER FERRY 1840 MUSKET .69 CAL\n\n5. THOMPSON-CENTER 50 CAL BLACK POWDER\n\n6. W. MILLS LONDON MUSKET .75 CAL\n\n7. US MOD 1873 TRAP DOOR 45-70 CAL SER# 18484\n\n8. WINCHESTER MOD 1866 SADDLE RING CARBINE LEVER ACTION .44 CAL\n\n9. COLT LIGHTING PUMP ACTION 32 CAL SER# 50434\n\n10. LC SMITH DOUBLE BARREL S/S SHOTGUN FIELD GRADE 12 GA\n\nBROWNING 16 GUN CAPACITY GUN SAFE* 6 GUN OAK GUN CABINET*\n\nJEWELRY-FURNITURE-ANTIQUES-PRIMITIVES-HOUSEHOLD\n\n1 LOT OF JEWELRY & COINS* FRIGIDAIRE STAINLESS SIDE/SIDE FRIDGE W/WATER/ICE IN DOOR* MAYTAG WASHER/DRYER* TEMPLE STUART MAPLE DINING TABLE W2 LEAVES\, BUFFET HUTCH\, CORNER CURIO CABINET* KLING COLONEL CHERRY ARMOIRE\, FULL SZ BED* KLING CHIPPENDALE CHERRY NIGHTSTAND\, LINGERIE CHEST* COLONIAL WILLIAMSBURG CHIPPENDALE MAHOGANY MIRROR* KLING COLONIAL BUFFET* HARDEN COFFEE TABLE* PENNSYLVANIA HOUSE OVAL MIRROR* MATCHING SET OF 4 KITCHEN CHAIRS* PRIMITIVE PENNSYLVANIA DOUGH BOX* 3 WOODEN ROCKING CHAIRS* (2) WOODEN LOVE SEATS* VINTAGE BENCH* (2) OAK DISPLAY SHELVES* FUTON* OAK OFFICE DESK* PENNSYLVANIA HOUSE END TABLES\, WRITERS DESK* MARBLE TOP BAR SINK* PR WOODEN FILE CABINETS* EMBROIDERED CHAIR* CHIPPENDALE HI BOY DRESSER* BRASS BED FULL SZ* PRIMITIVE HANGING WALL SHELF* DROP LEAF SOFA TABLE* (2) HARVEST TABLES* CHERRY ENTERTAINMENT CENTER* DROP LEAF TABLE* 25 DRAWER APOTHECARY CABINET* 11 DRAWER FILE CABINET* (4) LADDER BACK CANE BOTTOM CHAIRS* EUREKA VACUUM* QUILT RACK* SM KITCHEN DISPLAY CABINET* ELECTRIC FIREPLACE* STUDENT FLOOR LAMP* (2) OUTSIDE CHAIRS* WOODEN SWING* PATIO 5 PC SET* PATIO 3 PC SET* PRIMITIVE PINE TRUNK* LG LEATHER CHAIR* SOFA* SONY STEREO* VINTAGE HANGING LAMP* MEMORY CRAFT 3000 SEWING MACHINE* WOODEN PICNIC BENCH* SM SPINNING LOOM* TRUNK*JOSEPH BRECK BARREL BUTTER CHURN* BUCHERER QUARTZ CARRIAGE CLOCK* SWAG LAMP BRASS HANGING* WESTERN ELECTRIC ANTQ WALL PHONE* J&P COATS SPOOL CABINET* PICTURES* ANSONIA REGULATOR WALL CLOCK* WOODEN BARBER POLE* OAK MEDICINE CABINET* AMERICAN WOLLEN MILLS ADV. SIGN* MISC TABLE LAMPS* CLARKS ONT SEWING BOX* WOOD BUTTER CHURN* WOODEN HAY RAKE\, PITCHFORK\, SHOVEL* PUTMAN DYE TINTS* RED WING UNION # 5 & #3 CROCKS* ASSORT CROCK PIECES* ICE TONG PAPER TOWEL HOLDER* #3 ARCADE COFFEE GRINGER* SM COLLECTION HENS ON NEST* GLASS & WOODEN ROLLING PINS* ENTERPRISE TABLE TOP COFFEE GRINDER* 3 MISC WOOD COFFEE GRINDERS* GLASS KEROSENE LAMPS* METAL DINNER BELL* WOODEN BREAD BOWL* SAD IRON* VINTAGE HOME MADE WHEEL BARROW WATER FOUNTAIN* WOOD BARROW* CHARBROIL GAS GRILL* LEADED GLASS BUTTERFLY* SM DOLL HOUSE* #4 CROCK BUTTER CHURN* SEVERAL VINTAGE RUGS* CIVIL WAR US CLAUBERG SWORD* ORION TELESCOPE & STAND* DELAVAL METAL CREAM SEPARATOR SIGN* PILSON BREWING CO. ADV. BOX* ANTQ OAK GLOBE* JR. COBB HAND CARVED WOODEN OWL* SPRING ROCKING HORSE* ANTQ QUIK N EASY WASHING TUB* REMINGTON TYPEWRITER* BELKNAP HARDWARE CLOTHES WRINGER* WOODEN IRONING BOARD* SCHOOL BELL W/YOKE* VINTAGE WOODEN BARREL* FULL SET OF COLLIER HARVARD CLASSIC BOOKS* MISC WORLDWIDE COLLECTIBLES* PR EBONY ELEPHANT & BOOKENDS* ROGER PETERSON LIMOGES COLLECTOR PLATES* URANIUM GLASS LEMON SQUEEZER* FENTON SILVER CREST CAKE STAND* PEWTER PLATTER & PITCHER* KINGS CROWN FLUTED BOWL* PRESSED GLASS CRYSTAL SERVING PC'S* NORMAN ROCKWELL COLLECTOR PLATES* CRANBERRY VASE* STERLING SILVER CANDLESTICKS* IRONSTONE PITCHER & BOWL* PFALTZGRAFF DISH SET* MISC COPPER KITCHEN COLLECTIBLES* METAL CANDLE MOLDS* SET OF HAND PAINTED CHINESE DISHES* REGAL CHINA* J.A. HENCKELS KNIFE SET* SM APPLIANCES* CHICKEN COLLECTIBLES* PYREX\, CORNING WARE\, TUPPERWARE* DEHYDRATOR* CONCRETE BIRD BATH* WOOD BIRD HOUSES* PORCELAIN ANDREA BIRD COLLECTION* COOKS ELECT MEAT SLICER* SM COLLECTION COSTUME JEWELRY* COINS* DUDE MINK COAT* X BOX 360* FALL * CHRISTMAS DECOR*\n\nOWNER\n\nEDITH MILLS TRUST\n\nGAIL TAYLOR EXECUTOR
X-ALT-DESC;FMTTYPE=text/html:<p style="box-sizing: border-box\; margin-block: 0px 0.9rem\; color: rgb(40\, 40\, 39)\; font-family: Roboto\, sans-serif\; font-size: 16px\; background-color: rgb(255\, 255\, 255)\;">REAL ESTATE-AUTO-TRAILER-TOOLS-GUNS-ANTIQUES-FURNITURE-MISC</p>\n\n<p style="box-sizing: border-box\; margin-block: 0px 0.9rem\; color: rgb(40\, 40\, 39)\; font-family: Roboto\, sans-serif\; font-size: 16px\; background-color: rgb(255\, 255\, 255)\;">AUCTION</p>\n\n<p style="box-sizing: border-box\; margin-block: 0px 0.9rem\; color: rgb(40\, 40\, 39)\; font-family: Roboto\, sans-serif\; font-size: 16px\; background-color: rgb(255\, 255\, 255)\;">SATURDAY JUNE 21\, 2025 10:00 AM</p>\n\n<p style="box-sizing: border-box\; margin-block: 0px 0.9rem\; color: rgb(40\, 40\, 39)\; font-family: Roboto\, sans-serif\; font-size: 16px\; background-color: rgb(255\, 255\, 255)\;">LOCATED: 1635 HIGHWAY 215 BRIGHTON\, MO: FROM NORTH OF SPRINGFIELD\, MO. ON HWY 13 GO APPROX 15 MILES\, TURN RIGHT (EAST) GO &frac34\; MILE TO AUCTION ON LEFT\, OR 8 MILES SOUTH OF BOLIVAR ON HWY 13 TO HWY 215 THEN EAST ON HWY 215 TO AUCTION. CONCESSIONS &amp\; RESTROOM AVAILABLE</p>\n\n<p style="box-sizing: border-box\; margin-block: 0px 0.9rem\; color: rgb(40\, 40\, 39)\; font-family: Roboto\, sans-serif\; font-size: 16px\; background-color: rgb(255\, 255\, 255)\;">FOR PICTURES SEE WEBSITE OR AUCTION ZIP.COM</p>\n\n<p style="box-sizing: border-box\; margin-block: 0px 0.9rem\; color: rgb(40\, 40\, 39)\; font-family: Roboto\, sans-serif\; font-size: 16px\; background-color: rgb(255\, 255\, 255)\;">TO PREVIEW CALL 417-830-0153</p>\n\n<p style="box-sizing: border-box\; margin-block: 0px 0.9rem\; color: rgb(40\, 40\, 39)\; font-family: Roboto\, sans-serif\; font-size: 16px\; background-color: rgb(255\, 255\, 255)\;">BANK LETTER OF CREDIT ADDRESSED TO MELTON AUCTION &amp\; REALTY REQUIRED FOR PURCHASE OVER $5000</p>\n\n<p style="box-sizing: border-box\; margin-block: 0px 0.9rem\; color: rgb(40\, 40\, 39)\; font-family: Roboto\, sans-serif\; font-size: 16px\; background-color: rgb(255\, 255\, 255)\;">TERMS: 10% DOWN DAY OF AUCTION\, BALANCE @ CLOSING WITHIN 30 DAYS OR BEFORE</p>\n\n<p style="box-sizing: border-box\; margin-block: 0px 0.9rem\; color: rgb(40\, 40\, 39)\; font-family: Roboto\, sans-serif\; font-size: 16px\; background-color: rgb(255\, 255\, 255)\;">OPEN HOUSE SUNDAY JUNE 8TH 1-3 PM</p>\n\n<p style="box-sizing: border-box\; margin-block: 0px 0.9rem\; color: rgb(40\, 40\, 39)\; font-family: Roboto\, sans-serif\; font-size: 16px\; background-color: rgb(255\, 255\, 255)\;">GUNS WILL SELL @ 10:00</p>\n\n<p style="box-sizing: border-box\; margin-block: 0px 0.9rem\; color: rgb(40\, 40\, 39)\; font-family: Roboto\, sans-serif\; font-size: 16px\; background-color: rgb(255\, 255\, 255)\;">NO GUNS ON PREMISES UNTIL SALE DATE</p>\n\n<p style="box-sizing: border-box\; margin-block: 0px 0.9rem\; color: rgb(40\, 40\, 39)\; font-family: Roboto\, sans-serif\; font-size: 16px\; background-color: rgb(255\, 255\, 255)\;">REAL ESTATE SELLS @ 11:00</p>\n\n<p style="box-sizing: border-box\; margin-block: 0px 0.9rem\; color: rgb(40\, 40\, 39)\; font-family: Roboto\, sans-serif\; font-size: 16px\; background-color: rgb(255\, 255\, 255)\;">REAL ESTATE<br style="box-sizing: border-box\;" />\n2005\, 3 BEDROOM 2 BATH HOME APPROX 1722 SQ FT HOME W/DETACHED 20&rsquo\;X24&rsquo\; GARAGE\, 12&rsquo\;X10&rsquo\; PORTABLE STORAGE BUILDING\, LARGE FRONT PORCH TO WATCH THE SUNRISE OR BEAUTIFUL SUNSETS\, OPEN KITCHEN/DINING ROOM WITH LOTS OF CABINETS\, PANTRY\, DISHWASHER\, SLIDE IN RANGE\, TILE FLOORING\, UTILITY ROOM WITH CABINET &amp\; COUNTER FOR FOLDING CLOTHES\, LIVING W/VAULTED CEILING. THIS IS A VERY NICE HOME WITH VINYL SIDING\, METAL ROOF\, SPRINKLER SYSTEM FOR WATERING FLOWERS\, WATER SOFTENER\, WELL &amp\; SEPTIC ALL SITTING ON APPROX 2.46 ACRES. THIS IS A VERY WELL MAINTAINED HOME READY TO MOVE INTO.</p>\n\n<p style="box-sizing: border-box\; margin-block: 0px 0.9rem\; color: rgb(40\, 40\, 39)\; font-family: Roboto\, sans-serif\; font-size: 16px\; background-color: rgb(255\, 255\, 255)\;">AUTO-TRAILER-MOWER-TOOLS<br style="box-sizing: border-box\;" />\n1993 TOYOTA CAMRY LE STATION WAGON\, 214\,700 MILES* 2019 UTILITY TRAILER WITH FOLD DOWN RAMPS* HUSTLER RAPTOR 52&rdquo\; ZERO TURN MOWER\, KOHLER 24 HP* YARD MACHINE 3.5 HP SNOW BLOWER* TORO 21&rdquo\; SELF PROPELLED PUSH MOWER 6.5 HP* MANTIS TILLER* STIHL BG 56C BLOWER* WHEEL BARROW* 25 GAL ELECTRIC SPRAYER* MCGRAW 8 GAL 110 VOLT AIR COMPRESSOR* 28&rsquo\; ALUM EST LADDER* LONG HANDLE TOOLS* 2 TON CHERRY PICKER* 2 VEHICLE DOLLY&rsquo\;S* CRAFTSMAN 9 GAL SHOP VAC* DIETZ LANTERN* PLASTIC SHELVING*</p>\n\n<p style="box-sizing: border-box\; margin-block: 0px 0.9rem\; color: rgb(40\, 40\, 39)\; font-family: Roboto\, sans-serif\; font-size: 16px\; background-color: rgb(255\, 255\, 255)\;">GUNS-GUN SAFE<br style="box-sizing: border-box\;" />\n1. WINCHESTER MOD 1894\, 38-55 CAL\, HEX BARREL SER# 272549<br style="box-sizing: border-box\;" />\n2. REMINGTON MOD 700 LH\, 270 WIN CAL W/4X REDFIELD SCOPE SER# A6888471<br style="box-sizing: border-box\;" />\n3. US MOD 1873 TRAP DOOR 45-70 CAL SER# 60308<br style="box-sizing: border-box\;" />\n4. US HARPER FERRY 1840 MUSKET .69 CAL<br style="box-sizing: border-box\;" />\n5. THOMPSON-CENTER 50 CAL BLACK POWDER<br style="box-sizing: border-box\;" />\n6. W. MILLS LONDON MUSKET .75 CAL<br style="box-sizing: border-box\;" />\n7. US MOD 1873 TRAP DOOR 45-70 CAL SER# 18484<br style="box-sizing: border-box\;" />\n8. WINCHESTER MOD 1866 SADDLE RING CARBINE LEVER ACTION .44 CAL<br style="box-sizing: border-box\;" />\n9. COLT LIGHTING PUMP ACTION 32 CAL SER# 50434<br style="box-sizing: border-box\;" />\n10. LC SMITH DOUBLE BARREL S/S SHOTGUN FIELD GRADE 12 GA<br style="box-sizing: border-box\;" />\nBROWNING 16 GUN CAPACITY GUN SAFE* 6 GUN OAK GUN CABINET*</p>\n\n<p style="box-sizing: border-box\; margin-block: 0px 0.9rem\; color: rgb(40\, 40\, 39)\; font-family: Roboto\, sans-serif\; font-size: 16px\; background-color: rgb(255\, 255\, 255)\;">JEWELRY-FURNITURE-ANTIQUES-PRIMITIVES-HOUSEHOLD<br style="box-sizing: border-box\;" />\n1 LOT OF JEWELRY &amp\; COINS* FRIGIDAIRE STAINLESS SIDE/SIDE FRIDGE W/WATER/ICE IN DOOR* MAYTAG WASHER/DRYER* TEMPLE STUART MAPLE DINING TABLE W2 LEAVES\, BUFFET HUTCH\, CORNER CURIO CABINET* KLING COLONEL CHERRY ARMOIRE\, FULL SZ BED* KLING CHIPPENDALE CHERRY NIGHTSTAND\, LINGERIE CHEST* COLONIAL WILLIAMSBURG CHIPPENDALE MAHOGANY MIRROR* KLING COLONIAL BUFFET* HARDEN COFFEE TABLE* PENNSYLVANIA HOUSE OVAL MIRROR* MATCHING SET OF 4 KITCHEN CHAIRS* PRIMITIVE PENNSYLVANIA DOUGH BOX* 3 WOODEN ROCKING CHAIRS* (2) WOODEN LOVE SEATS* VINTAGE BENCH* (2) OAK DISPLAY SHELVES* FUTON* OAK OFFICE DESK* PENNSYLVANIA HOUSE END TABLES\, WRITERS DESK* MARBLE TOP BAR SINK* PR WOODEN FILE CABINETS* EMBROIDERED CHAIR* CHIPPENDALE HI BOY DRESSER* BRASS BED FULL SZ* PRIMITIVE HANGING WALL SHELF* DROP LEAF SOFA TABLE* (2) HARVEST TABLES* CHERRY ENTERTAINMENT CENTER* DROP LEAF TABLE* 25 DRAWER APOTHECARY CABINET* 11 DRAWER FILE CABINET* (4) LADDER BACK CANE BOTTOM CHAIRS* EUREKA VACUUM* QUILT RACK* SM KITCHEN DISPLAY CABINET* ELECTRIC FIREPLACE* STUDENT FLOOR LAMP* (2) OUTSIDE CHAIRS* WOODEN SWING* PATIO 5 PC SET* PATIO 3 PC SET* PRIMITIVE PINE TRUNK* LG LEATHER CHAIR* SOFA* SONY STEREO* VINTAGE HANGING LAMP* MEMORY CRAFT 3000 SEWING MACHINE* WOODEN PICNIC BENCH* SM SPINNING LOOM* TRUNK*JOSEPH BRECK BARREL BUTTER CHURN* BUCHERER QUARTZ CARRIAGE CLOCK* SWAG LAMP BRASS HANGING* WESTERN ELECTRIC ANTQ WALL PHONE* J&amp\;P COATS SPOOL CABINET* PICTURES* ANSONIA REGULATOR WALL CLOCK* WOODEN BARBER POLE* OAK MEDICINE CABINET* AMERICAN WOLLEN MILLS ADV. SIGN* MISC TABLE LAMPS* CLARKS ONT SEWING BOX* WOOD BUTTER CHURN* WOODEN HAY RAKE\, PITCHFORK\, SHOVEL* PUTMAN DYE TINTS* RED WING UNION # 5 &amp\; #3 CROCKS* ASSORT CROCK PIECES* ICE TONG PAPER TOWEL HOLDER* #3 ARCADE COFFEE GRINGER* SM COLLECTION HENS ON NEST* GLASS &amp\; WOODEN ROLLING PINS* ENTERPRISE TABLE TOP COFFEE GRINDER* 3 MISC WOOD COFFEE GRINDERS* GLASS KEROSENE LAMPS* METAL DINNER BELL* WOODEN BREAD BOWL* SAD IRON* VINTAGE HOME MADE WHEEL BARROW WATER FOUNTAIN* WOOD BARROW* CHARBROIL GAS GRILL* LEADED GLASS BUTTERFLY* SM DOLL HOUSE* #4 CROCK BUTTER CHURN* SEVERAL VINTAGE RUGS* CIVIL WAR US CLAUBERG SWORD* ORION TELESCOPE &amp\; STAND* DELAVAL METAL CREAM SEPARATOR SIGN* PILSON BREWING CO. ADV. BOX* ANTQ OAK GLOBE* JR. COBB HAND CARVED WOODEN OWL* SPRING ROCKING HORSE* ANTQ QUIK N EASY WASHING TUB* REMINGTON TYPEWRITER* BELKNAP HARDWARE CLOTHES WRINGER* WOODEN IRONING BOARD* SCHOOL BELL W/YOKE* VINTAGE WOODEN BARREL* FULL SET OF COLLIER HARVARD CLASSIC BOOKS* MISC WORLDWIDE COLLECTIBLES* PR EBONY ELEPHANT &amp\; BOOKENDS* ROGER PETERSON LIMOGES COLLECTOR PLATES* URANIUM GLASS LEMON SQUEEZER* FENTON SILVER CREST CAKE STAND* PEWTER PLATTER &amp\; PITCHER* KINGS CROWN FLUTED BOWL* PRESSED GLASS CRYSTAL SERVING PC&rsquo\;S* NORMAN ROCKWELL COLLECTOR PLATES* CRANBERRY VASE* STERLING SILVER CANDLESTICKS* IRONSTONE PITCHER &amp\; BOWL* PFALTZGRAFF DISH SET* MISC COPPER KITCHEN COLLECTIBLES* METAL CANDLE MOLDS* SET OF HAND PAINTED CHINESE DISHES* REGAL CHINA* J.A. HENCKELS KNIFE SET* SM APPLIANCES* CHICKEN COLLECTIBLES* PYREX\, CORNING WARE\, TUPPERWARE* DEHYDRATOR* CONCRETE BIRD BATH* WOOD BIRD HOUSES* PORCELAIN ANDREA BIRD COLLECTION* COOKS ELECT MEAT SLICER* SM COLLECTION COSTUME JEWELRY* COINS* DUDE MINK COAT* X BOX 360* FALL * CHRISTMAS DECOR*</p>\n\n<p style="box-sizing: border-box\; margin-block: 0px 0.9rem\; color: rgb(40\, 40\, 39)\; font-family: Roboto\, sans-serif\; font-size: 16px\; background-color: rgb(255\, 255\, 255)\;">OWNER<br style="box-sizing: border-box\;" />\nEDITH MILLS TRUST<br style="box-sizing: border-box\;" />\nGAIL TAYLOR EXECUTOR</p>\n
LOCATION:1635 Highway 215\, Brighton Mo
UID:e.2192.14150
SEQUENCE:3
DTSTAMP:20260424T224502Z
URL:https://business.visittablerocklake.com/events/details/melton-auction-realty-edith-mills-trust-real-estate-auto-trailer-tools-guns-antiques-furniture-misc-14150
END:VEVENT

END:VCALENDAR
