BEGIN:VCALENDAR
VERSION:2.0
PRODID:-//ChamberMaster//Event Calendar 2.0//EN
METHOD:PUBLISH
X-PUBLISHED-TTL:P3D
REFRESH-INTERVAL:P3D
CALSCALE:GREGORIAN
BEGIN:VEVENT
DTSTART;VALUE=DATE:20240526
DTEND;VALUE=DATE:20240527
TRANSP:TRANSPARENT
X-MICROSOFT-CDO-ALLDAYEVENT:TRUE
SUMMARY:Memorial Day Fireworks Celebration at Chateau on the Lake
DESCRIPTION:Start the summer season at Chateau on the Lake with a spectacular Memorial Day Fireworks Celebration.\n\n\n\nMake your reservations early by contacting reservation specialists a www.chateauonthelake.com.
X-ALT-DESC;FMTTYPE=text/html:<strong><span style="font-size:20px\;"><span style="color:#B22222\;">Start the summer season at Chateau on the Lake with a spectacular Memorial Day Fireworks Celebration.</span></span></strong><br />\n<br />\nMake your reservations early by contacting reservation specialists a&nbsp\;<a href="http://www.chateauonthelake.com">www.chateauonthelake.com</a>.
LOCATION:
UID:e.2192.12543
SEQUENCE:3
DTSTAMP:20260423T224111Z
URL:https://business.visittablerocklake.com/events/details/memorial-day-fireworks-celebration-at-chateau-on-the-lake-12543
END:VEVENT

END:VCALENDAR
