BEGIN:VCALENDAR
VERSION:2.0
PRODID:-//ChamberMaster//Event Calendar 2.0//EN
METHOD:PUBLISH
X-PUBLISHED-TTL:P3D
REFRESH-INTERVAL:P3D
CALSCALE:GREGORIAN
BEGIN:VEVENT
DTSTART:20251028T230000Z
DTEND:20251029T010000Z
X-MICROSOFT-CDO-ALLDAYEVENT:FALSE
SUMMARY:SCES 911 Trunk or Treat
DESCRIPTION:SCES is having their 2nd Annual TRUNK OR TREAT! Dispatchers will have their themed vehicles decorated and ready to hand out candy to everyone who comes! We will also have our annual pumpkin creating contest on display for our citizens to vote on! All decorations will be family friendly\, all ages welcome!
X-ALT-DESC;FMTTYPE=text/html:SCES is having their 2nd Annual TRUNK OR TREAT! Dispatchers will have their themed vehicles decorated and ready to hand out candy to everyone who comes! We will also have our annual pumpkin creating contest on display for our citizens to vote on! All decorations will be family friendly\, all ages welcome!
LOCATION:Stone County Emergency Services 105 Stonebridge Pkwy Branson West\, MO 65737
UID:e.2192.14244
SEQUENCE:3
DTSTAMP:20260425T004732Z
URL:https://business.visittablerocklake.com/events/details/sces-911-trunk-or-treat-14244
END:VEVENT

END:VCALENDAR
