BEGIN:VCALENDAR
VERSION:2.0
PRODID:-//ChamberMaster//Event Calendar 2.0//EN
METHOD:PUBLISH
X-PUBLISHED-TTL:P3D
REFRESH-INTERVAL:P3D
CALSCALE:GREGORIAN
BEGIN:VEVENT
DTSTART;VALUE=DATE:20220504
DTEND;VALUE=DATE:20220531
TRANSP:TRANSPARENT
X-MICROSOFT-CDO-ALLDAYEVENT:TRUE
SUMMARY:Silver Dollar City Bluegrass & BBQ Festival
DESCRIPTION:One of the nation's most respected bluegrass gatherings\, Bluegrass & BBQ is Ozark hospitality at its best\, offering a combination of downhome BBQ and bluegrass music. 10 stages and hundreds of performers present traditional tunes to a much more progressive sound. Musical groups include Grammy-awarded artists such as Rhonda Vincent & The Rage and Daily & Vincent\, along with family bands\, new artists and long-time downhome fiddlers. Earning top honors from The International Bluegrass Association (IBMA)\, Silver Dollar City excels in presenting the roots of America's music. (Insider Tip: Come hungry as the pitmasters perfect a variety of sauces to serve with thousands of pounds of meats   smoked from 10 to 16 hours.)\n\n\n\nPark is open 9:30 a.m. to 6:00 p.m. May 4-8\, 11-15\, 18-22\, and 25-30.\n\n\n\nFor more information\, click here.
X-ALT-DESC;FMTTYPE=text/html:<p style="margin: 0px 0px 15px\; color: rgb(51\, 51\, 51)\; font-family: Montserrat\, sans-serif\; font-size: 16px\; font-style: normal\; font-variant-ligatures: normal\; font-variant-caps: normal\; font-weight: 400\; letter-spacing: normal\; orphans: 2\; text-align: start\; text-indent: 0px\; text-transform: none\; white-space: normal\; widows: 2\; word-spacing: 0px\; -webkit-text-stroke-width: 0px\; text-decoration-style: initial\; text-decoration-color: initial\;"><span style="color: rgb(72\, 72\, 72)\; font-family: Arial\, sans-serif\, Montserrat\; font-size: 14px\; background-color: rgb(255\, 255\, 255)\;">One of the nation&rsquo\;s most respected bluegrass gatherings\, Bluegrass &amp\; BBQ is Ozark hospitality at its best\, offering a combination of downhome BBQ and bluegrass music. 10 stages and hundreds of performers present traditional tunes to a much more progressive sound. Musical groups include Grammy-awarded artists such as Rhonda Vincent &amp\; The Rage and Daily &amp\; Vincent\, along with family bands\, new artists and long-time downhome fiddlers. Earning top honors from The International Bluegrass Association (IBMA)\, Silver Dollar City excels in presenting the roots of America&rsquo\;s music. (Insider Tip: Come hungry as the pitmasters perfect a variety of sauces to serve with thousands of pounds of meats &ndash\; smoked from 10 to 16 hours.)</span><br />\n<br />\nPark is open 9:30 a.m. to 6:00 p.m. May 4-8\, 11-15\, 18-22\, and 25-30.<br />\n<br />\nFor more information\, <a href="https://www.silverdollarcity.com/theme-park/Festivals">click here</a>.</p>\n
LOCATION:Silver Dollar City
UID:e.2192.9192
SEQUENCE:3
DTSTAMP:20260425T173936Z
URL:https://business.visittablerocklake.com/events/details/silver-dollar-city-bluegrass-bbq-festival-9192
END:VEVENT

END:VCALENDAR
