BEGIN:VCALENDAR
VERSION:2.0
PRODID:-//ChamberMaster//Event Calendar 2.0//EN
METHOD:PUBLISH
X-PUBLISHED-TTL:P3D
REFRESH-INTERVAL:P3D
CALSCALE:GREGORIAN
BEGIN:VEVENT
DTSTART;VALUE=DATE:20260307
DTEND;VALUE=DATE:20260511
TRANSP:TRANSPARENT
X-MICROSOFT-CDO-ALLDAYEVENT:TRUE
SUMMARY:SpringFest at Shepherd of the Hills
DESCRIPTION:Visit Shepherd's Adventure Park for a unique Springtime experience during Spring weekends. Our Springfest is packed with a variety of fun family things to do in Branson\, MO. Join our easter egg hunt\, meet the Easter Bunny (appearances during the Egg Hunt)\, pet baby bunnies\, Spring-themed shakes\, and much more park activities! It's a full spring Branson experience. Have a hoppin' good time!
X-ALT-DESC;FMTTYPE=text/html:Visit Shepherd&rsquo\;s Adventure Park for a unique Springtime experience during Spring weekends. Our Springfest is packed with a variety of fun family things to do in Branson\, MO. Join our easter egg hunt\, meet the Easter Bunny (appearances during the Egg Hunt)\, pet baby bunnies\, Spring-themed shakes\, and much more park activities! It&rsquo\;s a full spring Branson experience. Have a hoppin&rsquo\; good time!
LOCATION:5586 W 76 Country Blvd. Branson\, MO 65616
UID:e.2192.14404
SEQUENCE:3
DTSTAMP:20260421T185747Z
URL:https://business.visittablerocklake.com/events/details/springfest-at-shepherd-of-the-hills-14404
END:VEVENT

END:VCALENDAR
