BEGIN:VCALENDAR
VERSION:2.0
PRODID:-//ChamberMaster//Event Calendar 2.0//EN
METHOD:PUBLISH
X-PUBLISHED-TTL:P3D
REFRESH-INTERVAL:P3D
CALSCALE:GREGORIAN
BEGIN:VEVENT
DTSTART;VALUE=DATE:20220603
DTEND;VALUE=DATE:20220612
TRANSP:TRANSPARENT
X-MICROSOFT-CDO-ALLDAYEVENT:TRUE
SUMMARY:Summer Concert Series at Silver Dollar City
DESCRIPTION:Summer Concert Series:  June 3 & 4\, 10 & 11\n\nClick here for more information.
X-ALT-DESC;FMTTYPE=text/html:Summer Concert Series:&nbsp\; June 3 &amp\; 4\, 10 &amp\; 11<br />\n<a href="https://www.silverdollarcity.com/theme-park/Events/Summer-Concert-Series">Click here</a> for more information.
LOCATION:
UID:e.2192.9207
SEQUENCE:3
DTSTAMP:20260425T190242Z
URL:https://business.visittablerocklake.com/events/details/summer-concert-series-at-silver-dollar-city-9207
END:VEVENT

END:VCALENDAR
