BEGIN:VCALENDAR
VERSION:2.0
PRODID:-//ChamberMaster//Event Calendar 2.0//EN
METHOD:PUBLISH
X-PUBLISHED-TTL:P3D
REFRESH-INTERVAL:P3D
CALSCALE:GREGORIAN
BEGIN:VEVENT
DTSTART:20220806T130000Z
DTEND:20220806T200000Z
X-MICROSOFT-CDO-ALLDAYEVENT:FALSE
SUMMARY:Table Rock Art Guild & Gallery August Artist Meet & Greet
DESCRIPTION:Meet and Greet TRAG Artists Darlen Rutz\, Jan Rosenburg\, Helen Long and Photographer Shawn Swinney at the Gallery.
X-ALT-DESC;FMTTYPE=text/html:Meet and Greet TRAG Artists Darlen Rutz\, Jan Rosenburg\, Helen Long and Photographer Shawn Swinney at the Gallery.
LOCATION:Claybough Plaza State Highway 13 and 76 Branson West\, Missouri 65737.
UID:e.2192.9801
SEQUENCE:3
DTSTAMP:20260425T232745Z
URL:https://business.visittablerocklake.com/events/details/table-rock-art-guild-gallery-august-artist-meet-greet-9801
END:VEVENT

END:VCALENDAR
