BEGIN:VCALENDAR
VERSION:2.0
PRODID:-//ChamberMaster//Event Calendar 2.0//EN
METHOD:PUBLISH
X-PUBLISHED-TTL:P3D
REFRESH-INTERVAL:P3D
CALSCALE:GREGORIAN
BEGIN:VEVENT
DTSTART:20250413T180000Z
DTEND:20250413T210000Z
X-MICROSOFT-CDO-ALLDAYEVENT:FALSE
SUMMARY:Wedding Vendor Open House - Food & Raffles!
DESCRIPTION:Join our 2025 Open House to jump start the planning process and reduce your wedding planning stress! * 25- various vendors all gathering with the main goal of helping you jumpstart your wedding planning process. * Food and beverages samples to enjoy. * A variety of raffles - from our Mystery Basket\, to various special offers from vendors\, including yours truly. Enjoy our many opportunities to help you save this wedding season! Our raffle drawings will happen at 3:30 pm\, and some of them require for you to be in-person to receive your winnings\, so don't leave too early! Make sure to RSVP on our Facebook event to win an extra entry to our mystery basket raffle!
X-ALT-DESC;FMTTYPE=text/html:Join our 2025 Open House to jump start the planning process and reduce your wedding planning stress! * 25- various vendors all gathering with the main goal of helping you jumpstart your wedding planning process. * Food and beverages samples to enjoy. * A variety of raffles - from our Mystery Basket\, to various special offers from vendors\, including yours truly. Enjoy our many opportunities to help you save this wedding season! Our raffle drawings will happen at 3:30 pm\, and some of them require for you to be in-person to receive your winnings\, so don&rsquo\;t leave too early! Make sure to RSVP on our Facebook event to win an extra entry to our mystery basket raffle!
LOCATION:Dooley's Chapel 1060 Crow's Nest Trail Branson\, MO 65616
UID:e.2192.13527
SEQUENCE:3
DTSTAMP:20260425T001853Z
URL:https://business.visittablerocklake.com/events/details/wedding-vendor-open-house-food-raffles-13527
END:VEVENT

END:VCALENDAR
